BEGIN:VCALENDAR
VERSION:2.0
PRODID:-//SAICBA-Q - ECPv6.15.20//NONSGML v1.0//EN
CALSCALE:GREGORIAN
METHOD:PUBLISH
X-ORIGINAL-URL:https://www.saicbaq.com
X-WR-CALDESC:Events for SAICBA-Q
REFRESH-INTERVAL;VALUE=DURATION:PT1H
X-Robots-Tag:noindex
X-PUBLISHED-TTL:PT1H
BEGIN:VTIMEZONE
TZID:America/New_York
BEGIN:DAYLIGHT
TZOFFSETFROM:-0500
TZOFFSETTO:-0400
TZNAME:EDT
DTSTART:20250309T070000
END:DAYLIGHT
BEGIN:STANDARD
TZOFFSETFROM:-0400
TZOFFSETTO:-0500
TZNAME:EST
DTSTART:20251102T060000
END:STANDARD
BEGIN:DAYLIGHT
TZOFFSETFROM:-0500
TZOFFSETTO:-0400
TZNAME:EDT
DTSTART:20260308T070000
END:DAYLIGHT
BEGIN:STANDARD
TZOFFSETFROM:-0400
TZOFFSETTO:-0500
TZNAME:EST
DTSTART:20261101T060000
END:STANDARD
BEGIN:DAYLIGHT
TZOFFSETFROM:-0500
TZOFFSETTO:-0400
TZNAME:EDT
DTSTART:20270314T070000
END:DAYLIGHT
BEGIN:STANDARD
TZOFFSETFROM:-0400
TZOFFSETTO:-0500
TZNAME:EST
DTSTART:20271107T060000
END:STANDARD
END:VTIMEZONE
BEGIN:VEVENT
DTSTART;TZID=America/New_York:20260428T130000
DTEND;TZID=America/New_York:20260428T140000
DTSTAMP:20260419T231313
CREATED:20260418T135041Z
LAST-MODIFIED:20260418T135041Z
UID:2709-1777381200-1777384800@www.saicbaq.com
SUMMARY:Motions and Motherhood #4 - DA Melinda Katz
DESCRIPTION:Motions & Motherhood: a network for moms who argue in court and negotiate at home. Real talk\, mentorship\, and community. The special guest is District Attorney Melinda Katz\, and the event will be co-moderated by SAICBA-Q President Asha Paulose. \nRegistration link here.
URL:https://www.saicbaq.com/event/motions-and-motherhood-4-da-melinda-katz/
LOCATION:QCBA Headquarters\, 88-14 Sutphin Blvd.\, 3rd Floor\, Jamaica\, NY\, 11435\, United States
CATEGORIES:Community
ATTACH;FMTTYPE=image/png:https://www.saicbaq.com/wp-content/uploads/2026/04/Motions-Motherhood-Flyer2-1.png
ORGANIZER;CN="SAICBA-Q":MAILTO:saicbaq@gmail.com
END:VEVENT
BEGIN:VEVENT
DTSTART;TZID=America/New_York:20260430T173000
DTEND;TZID=America/New_York:20260430T193000
DTSTAMP:20260419T231313
CREATED:20260420T020116Z
LAST-MODIFIED:20260420T020116Z
UID:2726-1777570200-1777577400@www.saicbaq.com
SUMMARY:How to Become a NYC Housing Court Judge
DESCRIPTION:Join SAICBA-Q co-founder Sagar Chadha\, Esq.\, member of the NYC Housing Court Advisory Council\, in learning about how to become a housing court judge in New York City. This panel will be held in-person at the offices of Cleary Gottlieb Steen & Hamilton LLP. No registration necessary. This event is open to all who are interested. \nSee you there!
URL:https://www.saicbaq.com/event/how-to-become-a-nyc-housing-court-judge/
LOCATION:Cleary Gottlieb Steen\, 1 Liberty Plaza\, New York\, NY\, 10006\, United States
CATEGORIES:Community
ATTACH;FMTTYPE=application/pdf:https://www.saicbaq.com/wp-content/uploads/2026/04/260430-Housing-Court-Panel-Flyer.pdf
END:VEVENT
BEGIN:VEVENT
DTSTART;TZID=America/New_York:20260501T130000
DTEND;TZID=America/New_York:20260501T140000
DTSTAMP:20260419T231313
CREATED:20260328T220155Z
LAST-MODIFIED:20260328T220541Z
UID:2632-1777640400-1777644000@www.saicbaq.com
SUMMARY:Law Day: Celebrating the Rule of Law
DESCRIPTION:In collaboration with our co-sponsors\, SAICBA-Q cordially invites you to Law Day: Celebrating the Rule of Law at King Manor Museum on May 1\, 2026 starting at 1:00 pm. \nAttendees will have the opportunity to learn more about Rufus King and his legacy\, as well as take part in a unique experience by signing the Constitution. Lunch to be provided. \nRSVP link here or by emailing us at saicbaq@gmail.com.
URL:https://www.saicbaq.com/event/law-day-celebrating-the-rule-of-law/
LOCATION:King Manor Museum\, 150-03 Jamaica Ave\, Jamaica\, NY\, 11432\, United States
CATEGORIES:Community
ATTACH;FMTTYPE=application/pdf:https://www.saicbaq.com/wp-content/uploads/2026/03/260501-SAICBAQ-Law-Day-Event.pdf
ORGANIZER;CN="SAICBA-Q":MAILTO:saicbaq@gmail.com
END:VEVENT
BEGIN:VEVENT
DTSTART;TZID=America/New_York:20260507T124500
DTEND;TZID=America/New_York:20260507T140000
DTSTAMP:20260419T231313
CREATED:20260420T015509Z
LAST-MODIFIED:20260420T015509Z
UID:2718-1778157900-1778162400@www.saicbaq.com
SUMMARY:Indian Arrival Day
DESCRIPTION:Join us for our first celebration of Indian Arrival Day honoring Indo-Caribbean Heritage\, featuring our co-founder Hon. Karen Gopee\, and CBS news reporter Jennifer Bisram-Gould. The panel will be moderated by Hon. Shahabuddeen Ally. \nRegistration link here. Please RSVP by April 24\, 2026 to reserve your seat.
URL:https://www.saicbaq.com/event/indian-arrival-day/
LOCATION:New York County Supreme Court\, 60 Centre Street\, Room 300\, New York\, NY\, 10007\, United States
CATEGORIES:Community
ATTACH;FMTTYPE=application/pdf:https://www.saicbaq.com/wp-content/uploads/2026/04/260507-Indian-Arrival-Day-Flyer.pdf
ORGANIZER;CN="SAICBA-Q":MAILTO:saicbaq@gmail.com
END:VEVENT
END:VCALENDAR